BEGIN:VCALENDAR
VERSION:2.0
PRODID:gregor-kaiser.info
METHOD:PUBLISH
BEGIN:VTIMEZONE
TZID:Europe/Berlin
X-LIC-LOCATION:Europe/Berlin
BEGIN:DAYLIGHT
TZOFFSETFROM:+0100
TZOFFSETTO:+0200
TZNAME:CEST
DTSTART:19700329T020000
RRULE:FREQ=YEARLY;INTERVAL=1;BYDAY=-1SU;BYMONTH=3
END:DAYLIGHT
BEGIN:STANDARD
TZOFFSETFROM:+0200
TZOFFSETTO:+0100
TZNAME:CET
DTSTART:19701025T030000
RRULE:FREQ=YEARLY;INTERVAL=1;BYDAY=-1SU;BYMONTH=10
END:STANDARD
END:VTIMEZONE
BEGIN:VEVENT
UID:8cb618e316bc7f2adb10576d91176e2e@gregor-kaiser.info
URL;VALUE=URI:https://gregor-kaiser.info/termine/webinar-wald-kompakt-wal
 dbrand-katastrophenschutz/
LOCATION:
SUMMARY:Webinar: Wald kompakt – Waldbrand & Katastrophenschutz
DESCRIPTION;ALTREP="data:text/html,%0A%3Cp%3EHier%20geht%27s%20zum%20Webi
 nar%3C%2Fp%3E%0A%0A%0A%0A%3Cp%3E%3Ca%20href%3D%22https%3A%2F%2Fus06web.zo
 om.us%2Fj%2F5329966795%3Fpwd%3DZnlvcHhLazh5RUxqZWhIU0ZyQkhtZz09%22%3Ehttp
 s%3A%2F%2Fus06web.zoom.us%2Fj%2F5329966795%3Fpwd%3DZnlvcHhLazh5RUxqZWhIU0
 ZyQkhtZz09%3C%2Fa%3E%3C%2Fp%3E%0A%0A%0A%0A%3Cp%3E%3C%2Fp%3E%0A":Hier geht
 's zum Webinar\n\nhttps://us06web.zoom.us/j/5329966795?pwd=ZnlvcHhLazh5RU
 xqZWhIU0ZyQkhtZz09
CLASS:PUBLIC
DTSTART;TZID=Europe/Berlin:20260527T200000
DTEND;TZID=Europe/Berlin:20260527T203000
DTSTAMP:20260422T115119
END:VEVENT
END:VCALENDAR