BEGIN:VCALENDAR
VERSION:2.0
PRODID:gregor-kaiser.info
METHOD:PUBLISH
BEGIN:VTIMEZONE
TZID:Europe/Berlin
X-LIC-LOCATION:Europe/Berlin
BEGIN:DAYLIGHT
TZOFFSETFROM:+0100
TZOFFSETTO:+0200
TZNAME:CEST
DTSTART:19700329T020000
RRULE:FREQ=YEARLY;INTERVAL=1;BYDAY=-1SU;BYMONTH=3
END:DAYLIGHT
BEGIN:STANDARD
TZOFFSETFROM:+0200
TZOFFSETTO:+0100
TZNAME:CET
DTSTART:19701025T030000
RRULE:FREQ=YEARLY;INTERVAL=1;BYDAY=-1SU;BYMONTH=10
END:STANDARD
END:VTIMEZONE
BEGIN:VEVENT
UID:cbb045aa505d74659aaee689b76a3a1c@gregor-kaiser.info
URL;VALUE=URI:https://gregor-kaiser.info/termine/marler-fluechtlingsiniti
 ative/
LOCATION:
SUMMARY:Marler Flüchtlingsinitiative
DESCRIPTION;ALTREP="data:text/html,%0A%3Cp%3EGespr%C3%A4ch%3C%2Fp%3E%0A":
 Gespräch
CLASS:PUBLIC
DTSTART;TZID=Europe/Berlin:20230330
DTEND;TZID=Europe/Berlin:20230330
DTSTAMP:20260420T014358
END:VEVENT
END:VCALENDAR