BEGIN:VCALENDAR
VERSION:2.0
PRODID:gregor-kaiser.info
METHOD:PUBLISH
BEGIN:VTIMEZONE
TZID:Europe/Berlin
X-LIC-LOCATION:Europe/Berlin
BEGIN:DAYLIGHT
TZOFFSETFROM:+0100
TZOFFSETTO:+0200
TZNAME:CEST
DTSTART:19700329T020000
RRULE:FREQ=YEARLY;INTERVAL=1;BYDAY=-1SU;BYMONTH=3
END:DAYLIGHT
BEGIN:STANDARD
TZOFFSETFROM:+0200
TZOFFSETTO:+0100
TZNAME:CET
DTSTART:19701025T030000
RRULE:FREQ=YEARLY;INTERVAL=1;BYDAY=-1SU;BYMONTH=10
END:STANDARD
END:VTIMEZONE
BEGIN:VEVENT
UID:c28f956295071ac42c3fcfa3d52749b2@gregor-kaiser.info
URL;VALUE=URI:https://gregor-kaiser.info/termine/gruene-werkstattgespraec
 he-gemeinwohloekonomie-gwoe/
LOCATION:Landtag NRW
SUMMARY:Grüne Werkstattgespräche Gemeinwohlökonomie (GWÖ)
DESCRIPTION;ALTREP="data:text/html,%0A%3Cp%3EAm%20Freitag%2C%20den%2010.%
 20November%202023%2C%20startet%20unsere%20dreiteilige%20Veranstaltungsrei
 he%20%E2%80%9EWerkstattgespr%C3%A4che%20Gemeinwohl%C3%B6konomie%20NRW%E2%
 80%9C.%20Wir%2C%20Antje%20Grothus%20und%20Gregor%20Kaiser%2C%20laden%20he
 rzlich%20zur%20Teilnahme%20ein%21%20Wir%20wollen%20die%20Werkstattgespr%C
 3%A4che%20nutzen%2C%20um%20mit%20Vertreter%2Ainnen%20der%20Wissenschaft%2
 C%20Wirtschaft%2C%20Zivilgesellschaft%20und%20Politik%20die%20Rolle%20der
 %20Gemeinwohl%C3%B6konomie%20f%C3%BCr%20ein%20Wirtschaften%20innerhalb%20
 planetarer%20Grenzen%20zu%20diskutieren.%20Die%20Auftaktveranstaltung%20f
 indet%20im%20Landtag%20NRW%20von%2015%20bis%2019%20Uhr%20statt.%3C%2Fp%3E
 %0A%0A%0A%0A%3Cp%3EBitte%20melden%20Sie%20sich%2Fihr%20euch%20unter%20%3C
 strong%3Emark.schwalm%40landtag.nrw.de%3C%2Fstrong%3E%20an.%3C%2Fp%3E%0A%
 0A%0A%0A%3Cdiv%20style%3D%22height%3A30px%22%20aria-hidden%3D%22true%22%2
 0class%3D%22wp-block-spacer%22%3E%3C%2Fdiv%3E%0A%0A%0A%0A%3Cfigure%20clas
 s%3D%22wp-block-image%20size-large%20is-resized%22%3E%3Cimg%20src%3D%22ht
 tps%3A%2F%2Fgregor-kaiser.info%2Fwp-content%2Fuploads%2F2023%2F10%2F23103
 0_GWOe-2-1024x1024.png%22%20alt%3D%22%22%20class%3D%22wp-image-1114%22%20
 style%3D%22aspect-ratio%3A1%3Bwidth%3A840px%3Bheight%3Aauto%22%20%2F%3E%3
 C%2Ffigure%3E%0A%0A%0A%0A%3Cdiv%20style%3D%22height%3A30px%22%20aria-hidd
 en%3D%22true%22%20class%3D%22wp-block-spacer%22%3E%3C%2Fdiv%3E%0A%0A%0A%0
 A%3Cfigure%20class%3D%22wp-block-image%20size-large%22%3E%3Cimg%20src%3D%
 22https%3A%2F%2Fgregor-kaiser.info%2Fwp-content%2Fuploads%2F2023%2F10%2F2
 31030_GWOe-3-1024x1024.png%22%20alt%3D%22%22%20class%3D%22wp-image-1115%2
 2%20%2F%3E%3C%2Ffigure%3E%0A%0A%0A%0A%3Cdiv%20style%3D%22height%3A30px%22
 %20aria-hidden%3D%22true%22%20class%3D%22wp-block-spacer%22%3E%3C%2Fdiv%3
 E%0A%0A%0A%0A%3Cfigure%20class%3D%22wp-block-image%20size-large%22%3E%3Ci
 mg%20src%3D%22https%3A%2F%2Fgregor-kaiser.info%2Fwp-content%2Fuploads%2F2
 023%2F10%2F231030_GWOe-4-1024x1024.png%22%20alt%3D%22%22%20class%3D%22wp-
 image-1116%22%20%2F%3E%3C%2Ffigure%3E%0A%0A%0A%0A%3Cp%3E%3C%2Fp%3E%0A":Am
  Freitag\, den 10. November 2023\, startet unsere dreiteilige Veranstaltu
 ngsreihe „Werkstattgespräche Gemeinwohlökonomie NRW“. Wir\, Antje G
 rothus und Gregor Kaiser\, laden herzlich zur Teilnahme ein! Wir wollen d
 ie Werkstattgespräche nutzen\, um mit Vertreter*innen der Wissenschaft\,
  Wirtschaft\, Zivilgesellschaft und Politik die Rolle der Gemeinwohlökon
 omie für ein Wirtschaften innerhalb planetarer Grenzen zu diskutieren. D
 ie Auftaktveranstaltung findet im Landtag NRW von 15 bis 19 Uhr statt.\n\
 nBitte melden Sie sich/ihr euch unter mark.schwalm@landtag.nrw.de an.
CLASS:PUBLIC
DTSTART;TZID=Europe/Berlin:20231110T150000
DTEND;TZID=Europe/Berlin:20231110T190000
DTSTAMP:20260422T040346
END:VEVENT
END:VCALENDAR